BEGIN:VCALENDAR
VERSION:2.0
METHOD:PUBLISH
X-WR-CALNAME;VALUE=TEXT:
PRODID:-//Drupal iCal API//EN
BEGIN:VEVENT
UID:wfbb-event-748
DTSTAMP:20240913T114147Z
DTSTART:20200328T230000Z
DTEND:20200403T220000Z
SUMMARY:USA Delegationsreise der Digitalwirtschaft
DESCRIPTION:Der SIBB e.V. organisiert mit Unterstützung von Berlin Partner, der Berliner Senatsverwaltung, German Accelerator und Select USA eine Wirtschaftsdelegation nach Washington D.C., Philadelphia und New York.
LOCATION:Washington D.C. | Philadelphia | New York . 20001 Washington D.C.
URL:https://www.surveymonkey.de/r/KR6JT6W
END:VEVENT
END:VCALENDAR
