BEGIN:VCALENDAR
VERSION:2.0
METHOD:PUBLISH
X-WR-CALNAME;VALUE=TEXT:
PRODID:-//Drupal iCal API//EN
BEGIN:VEVENT
UID:wfbb-event-4453
DTSTAMP:20260420T194216Z
DTSTART:20260526T080000Z
DTEND:20260526T160000Z
SUMMARY:Speed Match International Networking Event 2026
DESCRIPTION:Virtuelles Speed Match International Networking Event in Zusammenarbeit mit dem Enterprise Europe Network, der European Aerospace Cluster Partnership, dem European Automotive Cluster Network und der European Railway Clusters Initiative
LOCATION:online
URL:https://www.b2match.com/e/speedmatch-2026
END:VEVENT
END:VCALENDAR
