BEGIN:VCALENDAR
VERSION:2.0
METHOD:PUBLISH
X-WR-CALNAME;VALUE=TEXT:
PRODID:-//Drupal iCal API//EN
BEGIN:VEVENT
UID:wfbb-event-4445
DTSTAMP:20260331T093636Z
DTSTART:20260428T110000Z
DTEND:20260428T123000Z
SUMMARY:Online Webinar „Automotive trifft Medizintechnik“
DESCRIPTION:Die Medizintechnik zählt zu den wichtigsten Zukunftsbranchen in Deutschland und eröffnet vielfältige Chancen für Unternehmen der Fahrzeug- und Zulieferindustrie. Im online Webinar „Automotive trifft Medizintechnik“ zeigen Expert*innen, wie der erfolgreiche Einstieg in diesen Zukunftsmarkt gelingen kann.
LOCATION:online
URL:https://forms.office.com/pages/responsepage.aspx?id=MYjlaYlAxki5ympWNjQqe1qOSgxFqqlCpIThEt8xnuVUNlVXUEtDTDQ0TDlSVVhPMlpURTdIVlpKSi4u&amp;route=shorturl
END:VEVENT
END:VCALENDAR
