BEGIN:VCALENDAR
VERSION:2.0
METHOD:PUBLISH
X-WR-CALNAME;VALUE=TEXT:
PRODID:-//Drupal iCal API//EN
BEGIN:VEVENT
UID:wfbb-event-4440
DTSTAMP:20260410T162416Z
DTSTART:20260604T080000Z
DTEND:20260604T160000Z
SUMMARY:TRANSPORTER: Recruited
DESCRIPTION:Der Fachkräftemangel in der Transport-, Logistik- und Mobilitätsbranche wächst und mit ihm der Handlungsdruck für die Unternehmen. Internationale Auszubildene und Fachkräfte bieten eine wertvolle Chance, Teams langfristig zu stärken. Doch der Weg von der gezielten Rekrutierung über die Fachsprache bis hin zur erfolgreichen Integration in bestehende Teams ist komplex und herausfordernd. Wie können diese Prozesse übersichtlich, nachhaltig und erfolgreich gestaltet werden? Diese Veranstaltung versucht, Antworten darauf zu geben.
LOCATION:BARMER Veranstaltungscenter Axel-Springer-Str. 44 10969 Berlin
URL:https://lingodagmbh.typeform.com/anmeldung-event
END:VEVENT
END:VCALENDAR
