BEGIN:VCALENDAR
VERSION:2.0
METHOD:PUBLISH
X-WR-CALNAME;VALUE=TEXT:
PRODID:-//Drupal iCal API//EN
BEGIN:VEVENT
UID:wfbb-event-4330
DTSTAMP:20251016T115645Z
DTSTART:20251015T100000Z
DTEND:20251015T150000Z
SUMMARY:6. Workshop: Qualifizierung für die Bahnbranche
DESCRIPTION:Der Bahnsektor ist ein wichtiger Bereich kritischer Infrastruktur und sollte daher besonders resilient gegenüber Gefahren unterschiedlichster Art sein. Doch was genau heißt das für die Kompetenzentwicklung und Personalplanung in den HR-Abteilungen? Hierzu haben wir Experten eingeladen, die aktuelle Entwicklungen, Szenarien sowie Unterstützungsstrukturen vorstellen werden.

Nachwuchs anzuwerben und auszubilden, ist natürlich ein wichtiger Baustein, um Herausforderungen resilient zu bewältigen. Für Schüler, die sich gerade beruflich orientieren sind Lehrer vertrauensvolle Ansprechpartner. Umso wichtiger ist es, dieser Zielgruppe Einblick in die facettenreiche Berufswelt des Schienverkehrssektors zu geben. Wie man eine Berufsorientierungstournee für Lehrer plant und organisiert, dazu wird ebenso berichtet, wie zum Entwicklungsfortschritt der Bildungsakademie für Bahnberufe am BTC in Elstal.
LOCATION:Qualifizierungszentrum Berlin und Knappenrode der DB Bahnbau Gruppe Wagner-Régeny-Allee 9 12487 Berlin
URL:
END:VEVENT
END:VCALENDAR
