BEGIN:VCALENDAR
VERSION:2.0
METHOD:PUBLISH
X-WR-CALNAME;VALUE=TEXT:
PRODID:-//Drupal iCal API//EN
BEGIN:VEVENT
UID:wfbb-event-4302
DTSTAMP:20250715T142859Z
DTSTART:20251208T230000Z
DTEND:20251209T230000Z
SUMMARY:Rail Industry Summit Morocco 2025
DESCRIPTION:RAIL INDUSTRY SUMMIT MOROCCO
LOCATION:Mohammed VI Exhibition Park  El Jadida – Morocco
URL:https://morocco.railmeetings.com/index.php/en/?_sc=MTk5NjIwOCM1Nzk1Mjgw&amp;utm_campaign=RIS25-EAV02&amp;utm_medium=email&amp;utm_source=brevo
END:VEVENT
END:VCALENDAR
