BEGIN:VCALENDAR
VERSION:2.0
METHOD:PUBLISH
X-WR-CALNAME;VALUE=TEXT:
PRODID:-//Drupal iCal API//EN
BEGIN:VEVENT
UID:wfbb-event-4228
DTSTAMP:20250513T175840Z
DTSTART:20250520T220000Z
DTEND:20250521T220000Z
SUMMARY:Speed-Match 2025 International Networking Event
DESCRIPTION:Speed Match International Networking Event 2024 wird sich auf die Sektoren Luftfahrt, Eisenbahn und Automobil konzentrieren. Ziel ist es, dass Unternehmen mit ähnlichen Produktionskapazitäten gegenseitige Beziehungen aufbauen und ihre Geschäftsnetzwerke erweitern.
LOCATION:online
URL:https://www.b2match.com/e/speedmatch-2025
END:VEVENT
END:VCALENDAR
