BEGIN:VCALENDAR
VERSION:2.0
METHOD:PUBLISH
X-WR-CALNAME;VALUE=TEXT:
PRODID:-//Drupal iCal API//EN
BEGIN:VEVENT
UID:wfbb-event-4225
DTSTAMP:20250402T171951Z
DTSTART:20250410T080000Z
DTEND:20250410T090000Z
SUMMARY:it&#039;s.BB Awareness-Webinar: NIS-2 als Teil eines integrierten Managementsystems
DESCRIPTION:Das IT-Sicherheitsnetzwerk Berlin-Brandenburg it’s.BB e.V. lädt zu seinem Awareness-Webinar mit dem Titel „Viele Anforderungen eine Lösung: NIS-2 als Teil eines integrierten Managementsystems" ein.
LOCATION:online
URL:https://www.eventbrite.de/e/viele-anforderungen-eine-losung-nis-2-als-teil-eines-integrierten-manageme-tickets-1290202683959?aff=oddtdtcreator
END:VEVENT
END:VCALENDAR
