BEGIN:VCALENDAR
VERSION:2.0
METHOD:PUBLISH
X-WR-CALNAME;VALUE=TEXT:
PRODID:-//Drupal iCal API//EN
BEGIN:VEVENT
UID:wfbb-event-4144
DTSTAMP:20250312T105753Z
DTSTART:20250312T090000Z
DTEND:20250312T103000Z
SUMMARY:ERCI Webinar | AI - A Game Changer for Railway Operations and Maintenance?
DESCRIPTION:In diesem Webinar erfahren Sie in zwei Präsentationen, welchen Beitrag KI-Technologien für den autonomen Betrieb von Straßenbahnen und für die Instandhaltung von Bahninfrastruktur leisten können. Beide Präsentationen basieren auf den Bewerbungen der beiden Firmen Hitachi Rail GTS Italia und RAILwAI zu den ERCI Innovation Awards 2024.
LOCATION:online
URL:
END:VEVENT
END:VCALENDAR
