BEGIN:VCALENDAR
VERSION:2.0
METHOD:PUBLISH
X-WR-CALNAME;VALUE=TEXT:
PRODID:-//Drupal iCal API//EN
BEGIN:VEVENT
UID:wfbb-event-4005
DTSTAMP:20260115T085339Z
DTSTART:20240926T133000Z
DTEND:20240926T140000Z
SUMMARY:CLUSTER SPOTLIGHT: Projekt-Vorstellung „Gütermitnahme in Bus &amp; Bahn“
DESCRIPTION:Dieses CLUSTER SPOTLIGHT im Rahmen der InnoTrans 2024 stellt ein aktuelles Projekt "Gütermitnahme in Bus &amp; Bahn – aber gut angeschnallt!" unter Beteiligung von Akteuren aus Wirtschaft und Wissenschaft aus der Hauptstadtregion Berlin-Brandenburg vor.
LOCATION:Messe Berlin GmbH Messedamm 22 14055 Berlin
URL:
END:VEVENT
END:VCALENDAR
