BEGIN:VCALENDAR
VERSION:2.0
METHOD:PUBLISH
X-WR-CALNAME;VALUE=TEXT:
PRODID:-//Drupal iCal API//EN
BEGIN:VEVENT
UID:wfbb-event-3998
DTSTAMP:20240916T141131Z
DTSTART:20240925T150000Z
DTEND:20240925T160000Z
SUMMARY:MEET&amp;GREET: German Capital Region - Wallonia Networking Event
DESCRIPTION:Wir laden Sie herzlich ein, Ihr Unternehmen während der Meet &amp; Greet Veranstaltung „MEET &amp; GREET: Rail Across Borders: German Capital Region – Wallonia Networking Event“ am 25. September (17:00-18.00 Uhr) im Rahmen der InnoTrans 2024 zu präsentieren. Die Veranstaltung findet auf der Ausstellungsfläche des Clusters Verkehr, Mobilität und Logistik als Teil des Gemeinschaftsstandes Berlin-Brandenburg im City Cube, Halle B, Stand 310 statt.
LOCATION:Messe Berlin GmbH Messedamm 22 14055 Berlin
URL:
END:VEVENT
END:VCALENDAR
