BEGIN:VCALENDAR
VERSION:2.0
METHOD:PUBLISH
X-WR-CALNAME;VALUE=TEXT:
PRODID:-//Drupal iCal API//EN
BEGIN:VEVENT
UID:wfbb-event-3987
DTSTAMP:20240913T114409Z
DTSTART:20240924T110000Z
DTEND:20240924T114500Z
SUMMARY:CLUSTER SPOTLIGHT: Innovative Nachtzugkonzepte
DESCRIPTION:Im Fokus des CLUSTER SPOTLIGHTS auf der InnoTrans 2024 steht das Thema „Innovative Nachtzugkonzepte“. So arbeitet das Startup Luna Rail an einem Nachtzug-Kabinenkonzept für Umbaureisezugwagen, um bei hoher Fahrgastdichte guten Komfort und Privatsphäre für Fahrten Tag und Nacht anbieten zu können. Diskutieren Sie mit und nutzen die Möglichkeit, wertvolle neue Kontakte zu knüpfen.
LOCATION:Messe Berlin GmbH Messedamm 22 14055 Berlin
URL:
END:VEVENT
END:VCALENDAR
