BEGIN:VCALENDAR
VERSION:2.0
METHOD:PUBLISH
X-WR-CALNAME;VALUE=TEXT:
PRODID:-//Drupal iCal API//EN
BEGIN:VEVENT
UID:wfbb-event-3983
DTSTAMP:20240913T114409Z
DTSTART:20240925T080000Z
DTEND:20240925T110000Z
SUMMARY:InnoTrans 2024 | Digitalwirtschaft trifft Schiene
DESCRIPTION:Stoßen Sie zu unserem Netzwerk-Format am Berlin-Brandenburger Gemeinschaftsstand auf der InnoTrans 2024 dazu, wenn wir Experten aus beiden Branchen zusammenbringen: Schienenverkehr &amp; Digitalwirtschaft.
LOCATION:
URL:https://www.digital-bb.de/eventdetail/technologie-trifft-schiene-innotrans-2024
END:VEVENT
END:VCALENDAR
