BEGIN:VCALENDAR
VERSION:2.0
METHOD:PUBLISH
X-WR-CALNAME;VALUE=TEXT:
PRODID:-//Drupal iCal API//EN
BEGIN:VEVENT
UID:wfbb-event-3975
DTSTAMP:20240926T072528Z
DTSTART:20240926T133000Z
DTEND:20240926T140000Z
SUMMARY:LEADER 2030 TALK | Can Composites Help Innovation and Supply Autonomy in Rail?
DESCRIPTION:Im Fokus des LEADER 2030 TALKS im Rahmen der CLUSTER SPOTLIGHTS auf der InnoTrans 2024 steht das Thema „Können Verbundwerkstoffe zur Innovation und Lieferautonomie im Eisenbahnsektor beitragen?“. Ziel des von ERCI geführten EU-Projektes LEADER 2030 ist die Entwicklung von Maßnahmen, die angesichts der aktuellen Weltlage zur Stärkung der Resilienz von europäischen Lieferketten für Rohmaterialien für den Bahnsektor beitragen.
LOCATION:Messe Berlin GmbH Messedamm 22 14055 Berlin
URL:
END:VEVENT
END:VCALENDAR
