BEGIN:VCALENDAR
VERSION:2.0
METHOD:PUBLISH
X-WR-CALNAME;VALUE=TEXT:
PRODID:-//Drupal iCal API//EN
BEGIN:VEVENT
UID:wfbb-event-3962
DTSTAMP:20240913T140752Z
DTSTART:20240924T150000Z
DTEND:20240924T160000Z
SUMMARY:MEET&amp;GREET: Rail Across Borders: German Capital Region - Canada Networking Event
DESCRIPTION:Das MEET &amp; GREET bietet eine einmalige Gelegenheit, das Bahn-Ökosystem der deutschen Hauptstadtregion kennenzulernen, erfolgreiche deutsch-kanadische Kooperationen zu entdecken und mit führenden Unternehmen des Bahnsektors aus beiden Ländern in Kontakt zu treten.
LOCATION:Messe Berlin GmbH Messedamm 22 14055 Berlin
URL:
END:VEVENT
END:VCALENDAR
