BEGIN:VCALENDAR
VERSION:2.0
METHOD:PUBLISH
X-WR-CALNAME;VALUE=TEXT:
PRODID:-//Drupal iCal API//EN
BEGIN:VEVENT
UID:wfbb-event-3948
DTSTAMP:20240913T114409Z
DTSTART:20240924T110000Z
DTEND:20240927T160000Z
SUMMARY:Matchmaking | Slovakia Tech 2024: THE FUTURE OF MOBILITY
DESCRIPTION:Die Veranstaltung im Rahmen der SlovakiaTech 2024: THE FUTURE OF MOBILITY vernetzt Akteure aus ganz Europa, darunter Unternehmer, KMU, Forscher, NGOs, Kommunen sowie regionale und nationale Behörden. Treffen werden physisch oder virtuell über b2match organisiert.
LOCATION:
URL:https://www.b2match.com/e/future-of-mobility
END:VEVENT
END:VCALENDAR
