BEGIN:VCALENDAR
VERSION:2.0
METHOD:PUBLISH
X-WR-CALNAME;VALUE=TEXT:
PRODID:-//Drupal iCal API//EN
BEGIN:VEVENT
UID:wfbb-event-3921
DTSTAMP:20240913T114409Z
DTSTART:20240716T130000Z
DTEND:20240716T143000Z
SUMMARY:ERCI Webinar | Association of American Railroads: Standards, Rules, Approval
DESCRIPTION:In diesem Webinar erfahren Sie, wie Sie Zertifizierungen für den nordamerikanischen und kanadischen Markt erhalten können.

Die Präsentation wird sich auf die Rolle der technischen Ausschüsse der AAR konzentrieren, einschließlich der Entwicklung und Verwaltung von Normen und Spezifikationen für den nordamerikanischen Austauschdienst. Das Verfahren zur Bewertung und Zulassung von Komponenten und die Anforderungen für die Zertifizierung von Einrichtungen werden erläutert.
LOCATION:online
URL:https://rail-s.de/events/erci-webinar-certification-in-north-america/
END:VEVENT
END:VCALENDAR
