BEGIN:VCALENDAR
VERSION:2.0
METHOD:PUBLISH
X-WR-CALNAME;VALUE=TEXT:
PRODID:-//Drupal iCal API//EN
BEGIN:VEVENT
UID:wfbb-event-3894
DTSTAMP:20240913T114409Z
DTSTART:20240704T120000Z
DTEND:20240704T160000Z
SUMMARY:Praxistag für Unternehmen: KI und Fachkräftesicherung
DESCRIPTION:Der Praxistag des Zukunftszentrums Berlin stellt verschiedene Aspekte der Fachkräftesicherung durch den Einsatz von KI vor. Zum Mitmachen und zum Anfassen - damit der Einstieg mit KI gelingt!
LOCATION:Zentrum Digitale Technologien Salzufer 15/16 10587 Berlin
URL:https://zukunftszentrum-berlin.de/aktuelles/event/ki-und-fachkraeftesicherung-ein-praxistag-fuer-unternehmen/
END:VEVENT
END:VCALENDAR
