BEGIN:VCALENDAR
VERSION:2.0
METHOD:PUBLISH
X-WR-CALNAME;VALUE=TEXT:
PRODID:-//Drupal iCal API//EN
BEGIN:VEVENT
UID:wfbb-event-3873
DTSTAMP:20240913T114409Z
DTSTART:20241125T230000Z
DTEND:20241126T230000Z
SUMMARY:14. Aviation Forum München 2024
DESCRIPTION:Navigating the future: Sustainability, innovation, collaboration! lautet das Motto des 14. Aviation Forum München 2024. Europas führende Konferenz für die Luftfahrtindustrie mit großer, zentraler Ausstellung findet am 26. und 27. November 2024 in der Messe München.
LOCATION:Messe München GmbH Am Messesee 2 81823 München
URL:
END:VEVENT
END:VCALENDAR
