BEGIN:VCALENDAR
VERSION:2.0
METHOD:PUBLISH
X-WR-CALNAME;VALUE=TEXT:
PRODID:-//Drupal iCal API//EN
BEGIN:VEVENT
UID:wfbb-event-3696
DTSTAMP:20240913T114409Z
DTSTART:20240319T130000Z
DTEND:20240319T170000Z
SUMMARY:Berlin im All
DESCRIPTION:Die Raumfahrtbranche in Berlin-Brandenburg ist im Aufbruch und steht mitten in einer großartigen Entwicklungsphase, die sich zunehmend auch wirtschaftlich positiv auswirkt und einen starken Gegenpol zu den etablierten Space-Regionen Bremen und München bildet. Am 19.03.2024 möchten wir ab 14:00 Uhr in einem öffentlichen Arbeitstreffen zum Thema Berlin im All, einen umfassenden Blick auf die Berlin-Brandenburger Space Akteure, deren Projekte, Herausforderungen und Pläne werfen. Abschließen soll das Treffen mit einer Diskussionsrunde der Industrie und Wissenschaft, in welcher eine gemeinsame Vision für die Space-Wirtschaft der Hauptstadtregion diskutiert werden soll.

 
LOCATION:DLR Deutsches Zentrum für Luft- und Raumfahrt Rutherfordstr. 2 12489 Berlin
URL:
END:VEVENT
END:VCALENDAR
