BEGIN:VCALENDAR
VERSION:2.0
METHOD:PUBLISH
X-WR-CALNAME;VALUE=TEXT:
PRODID:-//Drupal iCal API//EN
BEGIN:VEVENT
UID:wfbb-event-3523
DTSTAMP:20240913T114409Z
DTSTART:20230914T090000Z
DTEND:20230914T103000Z
SUMMARY:STARS Tutorial | Technological Innovation Analysis Part III
DESCRIPTION:In diesem STARS-Tutorial lernen Sie zwei von acht technologischen Innovationstrends aus der Technologie-Innovationsanalyse von RAILENIUM kennen, die sich auf Anlagen für den automatisierten/autonomen oder ferngesteuerten Bahnbetrieb und die Planung und Steuerung des Netzmanagements beziehen.
LOCATION:online
URL:
END:VEVENT
END:VCALENDAR
