BEGIN:VCALENDAR
VERSION:2.0
METHOD:PUBLISH
X-WR-CALNAME;VALUE=TEXT:
PRODID:-//Drupal iCal API//EN
BEGIN:VEVENT
UID:wfbb-event-3474
DTSTAMP:20240913T114409Z
DTSTART:20230905T220000Z
DTEND:20230913T220000Z
SUMMARY:EUROPEAN WEEK OF ADVANCED TECHNOLOGIES FOR RAILWAY APPLICATIONS
DESCRIPTION:Die EUROPEAN WEEK OF ADVANCED TECHNOLOGIES FOR RAILWAY APPLICATIONS findet vom 6. bis 14. September 2023 statt und bietet insbesondere kleinen und mittleren Unternehmen entlang der gesamten Wertschöpfungskette der Bahnindustrie die Möglichkeit, wertvolle Kontakte zu knüpfen und neue Aspekte der internationalen Zusammenarbeit kennen zu lernen.
LOCATION:online
URL:https://starseurope.b2match.io/
END:VEVENT
END:VCALENDAR
