BEGIN:VCALENDAR
VERSION:2.0
METHOD:PUBLISH
X-WR-CALNAME;VALUE=TEXT:
PRODID:-//Drupal iCal API//EN
BEGIN:VEVENT
UID:wfbb-event-3454
DTSTAMP:20240913T114409Z
DTSTART:20231121T153000Z
DTEND:20231121T183000Z
SUMMARY:Women in Aerospace Meetup @ Rolls-Royce
DESCRIPTION:Women in Aerospace Berlin-Brandenburg lädt Sie herzlich zum nächsten und letzten Women in Aerospace Meetup im Jahr 2023 ein. Wir freuen uns sehr, dass wir dieses Mal bei der Firma Rolls-Royce in Dahlewitz (bei Berlin) zu Gast sein dürfen. Es erwarten Sie spannende Vorträge, Kooperationsmöglichkeiten und wie immer reichlich Zeit zum Netzwerken und zum fachlichen Austausch.
LOCATION:Rolls-Royce Deutschland Ltd. &amp;amp; Co.KG Eschenweg 11 15827 Blankenfelde-Mahlow, OT Dahlewitz
URL:
END:VEVENT
END:VCALENDAR
