BEGIN:VCALENDAR
VERSION:2.0
METHOD:PUBLISH
X-WR-CALNAME;VALUE=TEXT:
PRODID:-//Drupal iCal API//EN
BEGIN:VEVENT
UID:wfbb-event-3420
DTSTAMP:20240913T114409Z
DTSTART:20230911T080000Z
DTEND:20230911T100000Z
SUMMARY:STARS Tutorial | EU Funding for the Rail Sector
DESCRIPTION:In diesem STARS-Tutorial, das vom Enterprise Europe Network Berlin-Brandenburg (EEN) organisiert wird, erhalten Sie einige nützliche Informationen über Finanzierungsinstrumente auf EU-Ebene.
LOCATION:online
URL:
END:VEVENT
END:VCALENDAR
