BEGIN:VCALENDAR
VERSION:2.0
METHOD:PUBLISH
X-WR-CALNAME;VALUE=TEXT:
PRODID:-//Drupal iCal API//EN
BEGIN:VEVENT
UID:wfbb-event-3395
DTSTAMP:20240913T114409Z
DTSTART:20230906T090000Z
DTEND:20230906T100000Z
SUMMARY:STARS | AI in Safety-critical Railway Applications - Validation &amp; Homologation
DESCRIPTION:In diesem von Fraunhofer FOKUS organisierten STARS-Tutorial erfahren Sie mehr über Validierungs- und Zulassungsfragen in Bezug auf künstliche Intelligenz in sicherheitskritischen Bahnanwendungen. 
LOCATION:online
URL:
END:VEVENT
END:VCALENDAR
