BEGIN:VCALENDAR
VERSION:2.0
METHOD:PUBLISH
X-WR-CALNAME;VALUE=TEXT:
PRODID:-//Drupal iCal API//EN
BEGIN:VEVENT
UID:wfbb-event-3392
DTSTAMP:20240913T114409Z
DTSTART:20230913T083000Z
DTEND:20230913T100000Z
SUMMARY:STARS  | Smart Sensors and Communication Technologies for Railway Applications
DESCRIPTION:In diesem STARS-Tutorial, das vom Fraunhofer-Institut für Zuverlässigkeit und Mikrointegration IZM organisiert wird, erfahren Sie mehr über intelligente Sensoren und Kommunikationstechnologien für Bahnanwendungen.
LOCATION:online
URL:
END:VEVENT
END:VCALENDAR
