BEGIN:VCALENDAR
VERSION:2.0
METHOD:PUBLISH
X-WR-CALNAME;VALUE=TEXT:
PRODID:-//Drupal iCal API//EN
BEGIN:VEVENT
UID:wfbb-event-3378
DTSTAMP:20240913T114409Z
DTSTART:20230630T090000Z
DTEND:20230630T103000Z
SUMMARY:STARS | Smart Asset Management/Maintenance of the Future &amp; Railways Digital Twin
DESCRIPTION:In diesem STARS-Tutorial lernen Sie zwei von acht technologischen Innovationstrends aus der Technologie-Innovationsanalyse des französischen Bahntechnologiezentrums RAILENIUM kennen, die sich mit dem intelligenten Asset Management/Wartung der Zukunft und dem digitalen Zwilling der Bahn befassen.
LOCATION:online
URL:
END:VEVENT
END:VCALENDAR
