BEGIN:VCALENDAR
VERSION:2.0
METHOD:PUBLISH
X-WR-CALNAME;VALUE=TEXT:
PRODID:-//Drupal iCal API//EN
BEGIN:VEVENT
UID:wfbb-event-3280
DTSTAMP:20240913T114409Z
DTSTART:20230515T220000Z
DTEND:20230516T220000Z
SUMMARY:Railway Supplier Summit 2023 - Düsseldorf
DESCRIPTION:Auf dem Railway Supplier Summit 2023 - Düsseldorf treffen sich die Top-Führungskräfte, um die Zukunft der Bahnlieferketten mit nachhaltigen Lösungen zu gestalten. Entdecken Sie die neuesten Trends bei grünen, digitalen und resilienten Technologien, die die Bahnindustrie revolutionieren werden. Verpassen Sie nicht die Gelegenheit, sich mit Branchenexperten zu vernetzen, Einblicke von Fachreferenten von Betreibern, OEMs und aus der gesamten Wertschöpfungskette zu erhalten und in der sich ständig weiterentwickelnden Welt des Schienenverkehrs einen Schritt voraus zu sein.

 
LOCATION:Dorint Kongresshotel Düsseldorf/Neuss Selikumer Straße 25 41460 Neuss
URL:
END:VEVENT
END:VCALENDAR
