BEGIN:VCALENDAR
VERSION:2.0
METHOD:PUBLISH
X-WR-CALNAME;VALUE=TEXT:
PRODID:-//Drupal iCal API//EN
BEGIN:VEVENT
UID:wfbb-event-3245
DTSTAMP:20240913T114409Z
DTSTART:20230504T160000Z
DTEND:20230504T183000Z
SUMMARY:Women in Aerospace Berlin/Brandenburg: Cooperation in Aerospace
DESCRIPTION:Es ist wieder Zeit für unser nächstes Women in Aerospace Netzwerktreffen. Dieses Mal möchten wir uns bei der Firma X2E- Aerospace Technologies GmbH für die freundliche Einladung nach Wildau bedanken!

 
LOCATION:X2E AEROSPACE TECHNOLOGIES GMBH  Ludwig-Witthöft-Straße 14 15745 Wildau
URL:
END:VEVENT
END:VCALENDAR
