BEGIN:VCALENDAR
VERSION:2.0
METHOD:PUBLISH
X-WR-CALNAME;VALUE=TEXT:
PRODID:-//Drupal iCal API//EN
BEGIN:VEVENT
UID:wfbb-event-3233
DTSTAMP:20240913T114409Z
DTSTART:20231015T220000Z
DTEND:20231018T220000Z
SUMMARY:Geschäftschancen in Kasachstan nutzen – Geschäftsanbahnungsreise Bahntechnik
DESCRIPTION:Im Auftrag des Bundesministeriums für Wirtschaft und Klimaschutz (BMWK) führt DREBERIS in Zusammenarbeit mit der NETSCI GmbH im Zeitraum vom 16. bis 19.10.2023 eine geförderte Geschäftsanbahnungsreise nach Kasachstan für Unternehmen, die im Bereich der Bahntechnik und -logistik tätig sind, durch.
LOCATION:Astana  Almaty
URL:https://www.dreberis.com/de/form/kontaktformular/bahntechnik#overlay-context=de/form/kontaktformular/bahntechnik
END:VEVENT
END:VCALENDAR
