BEGIN:VCALENDAR
VERSION:2.0
METHOD:PUBLISH
X-WR-CALNAME;VALUE=TEXT:
PRODID:-//Drupal iCal API//EN
BEGIN:VEVENT
UID:wfbb-event-3229
DTSTAMP:20240913T114409Z
DTSTART:20230419T080000Z
DTEND:20230419T093000Z
SUMMARY:ERCI/STARS Webinar | Software Solutions for Efficient Railway Operation
DESCRIPTION:In diesem ERCI/STARS-Webinar erfahren Sie mehr über Softwarelösungen zur Effizienzsteigerung im Bahnbetrieb.
LOCATION:online
URL:
END:VEVENT
END:VCALENDAR
