BEGIN:VCALENDAR
VERSION:2.0
METHOD:PUBLISH
X-WR-CALNAME;VALUE=TEXT:
PRODID:-//Drupal iCal API//EN
BEGIN:VEVENT
UID:wfbb-event-3209
DTSTAMP:20240913T114409Z
DTSTART:20230504T130000Z
DTEND:20230504T150000Z
SUMMARY:STARS Tutorial | 5G for Mobility
DESCRIPTION:In diesem STARS-Tutorial erfahren Sie mehr über mögliche Anwendungen von 5G-Technologien für die zukünftige Mobilität. Im Tutorial wird erörtert, wie 5G für Fahrzeugnetze in Betracht gezogen wird und auf den Bahnsektor ausgeweitet werden könnte.
LOCATION:online
URL:
END:VEVENT
END:VCALENDAR
