BEGIN:VCALENDAR
VERSION:2.0
METHOD:PUBLISH
X-WR-CALNAME;VALUE=TEXT:
PRODID:-//Drupal iCal API//EN
BEGIN:VEVENT
UID:wfbb-event-3158
DTSTAMP:20240913T114409Z
DTSTART:20230329T080000Z
DTEND:20230330T110000Z
SUMMARY:SIFER B2B Meetings 2023 - International Railway Brokerage Event
DESCRIPTION:Das Enterprise Europe Network Nordfrankreich und der Wettbewerbscluster i-Trans organisieren im Rahmen der in Lille (Frankreich) stattfindenden Bahntechnikmesse SIFER ein Brokerage-Event für die Eisenbahnindustrie.
LOCATION:Lille Grand Palais 1 Bd des Cités Unies 59800 Lille &amp;amp; online
URL:https://sifer-b2b-meetings-2023-international.b2match.io/
END:VEVENT
END:VCALENDAR
