BEGIN:VCALENDAR
VERSION:2.0
METHOD:PUBLISH
X-WR-CALNAME;VALUE=TEXT:
PRODID:-//Drupal iCal API//EN
BEGIN:VEVENT
UID:wfbb-event-3122
DTSTAMP:20240913T114409Z
DTSTART:20230118T160000Z
DTEND:20230118T210000Z
SUMMARY:Women in Aerospace Berlin/Brandenburg: Let’s begin new innovative collaborations
DESCRIPTION:Am Mittwoch, den 18.01.2023 läuten wir ab 17.00 Uhr den Jahresauftakt mit neuen innovativen Kooperationsmöglichkeiten ein! Es erwarten euch Key-Notes zu den aktuellen Themen der Luft- und Raumfahrt, ein Speed-Dating zwischen allen Teilnehmerinnen, um individuelle Kooperationsmöglichkeiten zu generieren sowie einen Round-Table: Diskussion gemeinsame Projekte &amp; Vorhaben in 2023.
LOCATION:Berlin Partner für Wirtschaft und Technologie GmbH | Ludwig Erhard Haus | 3. Etage | Raum Holzmarkt Fasanenstr. 85 10623 Berlin
URL:
END:VEVENT
END:VCALENDAR
