BEGIN:VCALENDAR
VERSION:2.0
METHOD:PUBLISH
X-WR-CALNAME;VALUE=TEXT:
PRODID:-//Drupal iCal API//EN
BEGIN:VEVENT
UID:wfbb-event-3048
DTSTAMP:20240913T114340Z
DTSTART:20221028T070000Z
DTEND:20221108T170000Z
SUMMARY:EU-Projekt STARS | &quot;Hack&amp;Match&quot; Event #1
DESCRIPTION:Dies ist das erste von insgesamt fünf "Hack&amp;Match"-Events des EU-Projekts STARS (Strategic Alliances Boosting Railway SMEs). Die "Hack&amp;Match"-Events stellen einen integralen Bestandteil des Unterstützungsprozesses durch die STARS-Projektpartner dar. Es ist geplant, "traditionelle" KMU aus der Bahn- und Mobilitätsbranche nicht nur mit deren "Bedürfnissen" hinsichtlich der Anwendung fortschrittlicher technologien für ihre Unternehmensprozesse, sondern mit potenziellen Lösungen zu begleiten. Dadurch werden sowohl der Hackathon-Teil als auch der Matchmaking-Teil spezifischer und maßgeschneiderter.
LOCATION:online
URL:https://forms.office.com/pages/responsepage.aspx?id=QQjipVq80kOXmZrpz4bb37ZhQGXMTzxCsgaz6gI1p6tURUUyVDNVMEJHVjU1TEFORVQ2NFJTSjJUNC4u
END:VEVENT
END:VCALENDAR
