BEGIN:VCALENDAR
VERSION:2.0
METHOD:PUBLISH
X-WR-CALNAME;VALUE=TEXT:
PRODID:-//Drupal iCal API//EN
BEGIN:VEVENT
UID:wfbb-event-2931
DTSTAMP:20240913T114340Z
DTSTART:20220831T070000Z
DTEND:20220831T143000Z
SUMMARY:8. „Bergbau trifft Bahntechnik“-Konferenz
DESCRIPTION:Mit der 8. "Bergbau trifft Bahntechnik"-Konferenz greifen das Bahntechnikcluster Rail.S und das GKZ Geokompetenzzentrum Freiberg den zunehmenden Erwartungsdruck aus Gesellschaft und Politik auf, Ökonomie und Ökologie mit nachhaltigen Konzepten und Lösungen in Einklang zu bringen.
LOCATION:TSW – Tagungszentrum der Sächsischen Wirtschaft in Radebeul Am Alten Güterboden 3 01445 Radebeu
URL:https://rail-s.de/events/bergbau-trifft-bahntechnik-2022/
END:VEVENT
END:VCALENDAR
