BEGIN:VCALENDAR
VERSION:2.0
METHOD:PUBLISH
X-WR-CALNAME;VALUE=TEXT:
PRODID:-//Drupal iCal API//EN
BEGIN:VEVENT
UID:wfbb-event-2918
DTSTAMP:20240913T114340Z
DTSTART:20220914T070000Z
DTEND:20220914T150000Z
SUMMARY:HYBRID - B2B-Meetings im Rahmen der Smart Mobility Valencia, Spanien
DESCRIPTION:Auf der Smart Mobility Valencia stellen Unternehmen ihre Produkte und Dienstleistungen für eine nachhaltige, integrative und intelligente Mobilität vor. Darüber hinaus gibt es Präsentationen von technologischen Fähigkeiten und Erfolgsgeschichten sowie Pitches.
LOCATION:Ciutat de les Arts i les Ciències Av. del Professor López Piñero, 7 46013 València
URL:
END:VEVENT
END:VCALENDAR
