BEGIN:VCALENDAR
VERSION:2.0
METHOD:PUBLISH
X-WR-CALNAME;VALUE=TEXT:
PRODID:-//Drupal iCal API//EN
BEGIN:VEVENT
UID:wfbb-event-2895
DTSTAMP:20240913T114340Z
DTSTART:20220705T060000Z
DTEND:20220706T150000Z
SUMMARY:B2B-Meetings at automotive.2022 in Linz, Österreich (hybrid)
DESCRIPTION:Das Motto der automotive.2022 lautet "lokal, global und nachhaltig". Die jährliche Konferenz des oberösterreichischen Automobilclusters beginnt mit Workshops &amp; B2B-Meetings am Vormittag und wird mit spannenden Keynotes und Networking-Möglichkeiten fortgesetzt.
LOCATION:Oberbank Donau Forum Untere Donaulände 28 4020 Linz
URL:https://b2b-automotive2022.b2match.io/
END:VEVENT
END:VCALENDAR
