BEGIN:VCALENDAR
VERSION:2.0
METHOD:PUBLISH
X-WR-CALNAME;VALUE=TEXT:
PRODID:-//Drupal iCal API//EN
BEGIN:VEVENT
UID:wfbb-event-2854
DTSTAMP:20240913T114340Z
DTSTART:20220622T130000Z
DTEND:20220622T143000Z
SUMMARY:Space in 2022: Ein retrospektiver Ausblick
DESCRIPTION:Women in Aerospace Berlin | Brandenburg veranstaltet in Kooperation mit der Berlin Brandenburg Aerospace Allianz und dem Cluster Verkehr, Mobilität, Logistik einen retrospektiven Ausblick zum Thema: Space in 2022.
LOCATION:Berlin ExpoCenter Airport  ILA Halle 3 Stand 465/450, Messestraße 1  12529 Schönefeld
URL:
END:VEVENT
END:VCALENDAR
