BEGIN:VCALENDAR
VERSION:2.0
METHOD:PUBLISH
X-WR-CALNAME;VALUE=TEXT:
PRODID:-//Drupal iCal API//EN
BEGIN:VEVENT
UID:wfbb-event-2791
DTSTAMP:20240913T114340Z
DTSTART:20220622T120000Z
DTEND:20220624T110000Z
SUMMARY:ILA Berlin 2022 | B2B-Matchmaking (hybrid)
DESCRIPTION:Eine internationale Kooperationsbörse, thematische Führungen sowie Diskussionsforen zu Innovationsthemen sind Bestandteile der International Aerospace Days Berlin vom 22. bis 24. Juni 2022.
LOCATION:Berlin ExpoCenter Airport | Halle 3A, Stand 365 Messestraße 1 12529 Schönefeld und online
URL:https://iad-berlin-2022.b2match.io/
END:VEVENT
END:VCALENDAR
