BEGIN:VCALENDAR
VERSION:2.0
METHOD:PUBLISH
X-WR-CALNAME;VALUE=TEXT:
PRODID:-//Drupal iCal API//EN
BEGIN:VEVENT
UID:wfbb-event-2597
DTSTAMP:20260115T085351Z
DTSTART:20220222T130000Z
DTEND:20220222T150000Z
SUMMARY:Vorbereitung &quot;Tag der Logistik Brandenburg 2022&quot;
DESCRIPTION:Schule trifft Wirtschaft: Logistik ist mehr als Transport… Finde am 5. Mai 2022 Deine Perspektive
LOCATION:online
URL:mailto:TdLB@wfbb.de?subject=Workshop%20%7C%2022.02.2022
END:VEVENT
END:VCALENDAR
