BEGIN:VCALENDAR
VERSION:2.0
METHOD:PUBLISH
X-WR-CALNAME;VALUE=TEXT:
PRODID:-//Drupal iCal API//EN
BEGIN:VEVENT
UID:wfbb-event-2595
DTSTAMP:20260115T085351Z
DTSTART:20220504T220000Z
DTEND:20220504T220000Z
SUMMARY:Tag der Logistik Brandenburg „Wirtschaft trifft Schule“
DESCRIPTION:Schule trifft Wirtschaft: Logistik ist mehr als Transport… Finde am 5. Mai 2022 Deine Perspektive
LOCATION:online
URL:
END:VEVENT
END:VCALENDAR
