BEGIN:VCALENDAR
VERSION:2.0
METHOD:PUBLISH
X-WR-CALNAME;VALUE=TEXT:
PRODID:-//Drupal iCal API//EN
BEGIN:VEVENT
UID:wfbb-event-2485
DTSTAMP:20240913T114147Z
DTSTART:20220413T090000Z
DTEND:20220413T112000Z
SUMMARY:ERCI Webinar | Cyber Security and the Transport Sector
DESCRIPTION:In diesem Webinar werden eine Reihe von Präsentationen zu den Themen Informationssicherung, Informationssicherheit sowie Cyber-Bedrohungen und -Schwachstellen für den Verkehrssektor vorgestellt.
LOCATION:online
URL:https://www.eventbrite.co.uk/e/international-cyber-security-webinar-tickets-301308550987
END:VEVENT
END:VCALENDAR
