BEGIN:VCALENDAR
VERSION:2.0
METHOD:PUBLISH
X-WR-CALNAME;VALUE=TEXT:
PRODID:-//Drupal iCal API//EN
BEGIN:VEVENT
UID:wfbb-event-2429
DTSTAMP:20260115T085353Z
DTSTART:20221019T063000Z
DTEND:20221021T130000Z
SUMMARY:BVL Deutscher Logistik-Kongress
DESCRIPTION:Der Deutsche Logistik-Kongress ist ein etablierter Wirtschaftskongress. Teilnehmende vertreten alle Bereiche der Wirtschaft – von Industrie über Handel zu Dienstleistungen, insbesondere des Wirtschaftsbereichs Logistik.
LOCATION:InterContinental Berlin Budapester Straße 2 10787 Berlin
URL:https://www.bvl.de/dlk/anmeldung
END:VEVENT
END:VCALENDAR
