BEGIN:VCALENDAR
VERSION:2.0
METHOD:PUBLISH
X-WR-CALNAME;VALUE=TEXT:
PRODID:-//Drupal iCal API//EN
BEGIN:VEVENT
UID:wfbb-event-2413
DTSTAMP:20260115T085351Z
DTSTART:20211011T070000Z
DTEND:20211015T103000Z
SUMMARY:ITS World Congress 2021
DESCRIPTION:Das Cluster Verkehr, Mobilität und Logistik präsentiert sich mit einem Bundesländergemeinschaftsstand Berlin-Brandenburg und einem Bühnenprogramm auf dem ITS World Congress in Hamburg.
LOCATION:Hamburg Messe (Halle B4 / Stand 02) Messeplatz 1 20357 Hamburg
URL:https://itsworldcongress.com/registration-fees/
END:VEVENT
END:VCALENDAR
