BEGIN:VCALENDAR
VERSION:2.0
METHOD:PUBLISH
X-WR-CALNAME;VALUE=TEXT:
PRODID:-//Drupal iCal API//EN
BEGIN:VEVENT
UID:wfbb-event-2382
DTSTAMP:20240913T114147Z
DTSTART:20211001T100000Z
DTEND:20211001T140000Z
SUMMARY:VELOTransport Fachkonferenz und Festival
DESCRIPTION:Cargobikes sind ein wichtiger Schlüssel zur Mobilitätswende. Die Fachkonferenz und Messe VELOTransport am 1. und 2. Oktober am MotionLab.Berlin beleuchten die Einsatzmöglichkeiten, Produkte und Infrastruktur.
LOCATION:MotionLab ML GmbH Bouchéstrasse 12, Halle 20 12435 Berlin
URL:http://www.velotransport.de
END:VEVENT
END:VCALENDAR
