BEGIN:VCALENDAR
VERSION:2.0
METHOD:PUBLISH
X-WR-CALNAME;VALUE=TEXT:
PRODID:-//Drupal iCal API//EN
BEGIN:VEVENT
UID:wfbb-event-2361
DTSTAMP:20260115T085350Z
DTSTART:20211004T220000Z
DTEND:20211004T220000Z
SUMMARY:CO²-Reduktion in der Intralogistik mit Wasserstoff und Brennstoffzellen
DESCRIPTION:..
LOCATION:online
URL:https://www.now-gmbh.de/aktuelles/veranstaltungen/cin-symposium/#frm_form_31_container
END:VEVENT
END:VCALENDAR
