BEGIN:VCALENDAR
VERSION:2.0
METHOD:PUBLISH
X-WR-CALNAME;VALUE=TEXT:
PRODID:-//Drupal iCal API//EN
BEGIN:VEVENT
UID:wfbb-event-2321
DTSTAMP:20240913T114147Z
DTSTART:20210908T163000Z
DTEND:20210908T173000Z
SUMMARY:RAILTALKS. Nachhaltige Transporte auf die Schiene bringen
DESCRIPTION:RAILTALKS. ist zurück - Railexpert:innen diskutieren das Thema "Rollende Landstraße - Was muss passieren um nachhaltige Transporte auf die Schiene zu verlagern?"
LOCATION:Private Roof Club Berlin Mühlenstr. 78-80 10243 Berlin + online
URL:https://www.eventbrite.de/e/railtalks-tickets-167305895437
END:VEVENT
END:VCALENDAR
