BEGIN:VCALENDAR
VERSION:2.0
METHOD:PUBLISH
X-WR-CALNAME;VALUE=TEXT:
PRODID:-//Drupal iCal API//EN
BEGIN:VEVENT
UID:wfbb-event-2225
DTSTAMP:20260115T085349Z
DTSTART:20210624T153000Z
DTEND:20210624T170000Z
SUMMARY:Corona-Impfstofflogistik in Berlin/Brandenburg
DESCRIPTION:Erhalten Sie Einblicke in die hoch komplexe und lebenswichtige Aufgabe der Corona-Impfstofflogistik in Berlin/Brandenburg.
LOCATION:online
URL:https://www.bvl.de/veranstaltungen/regionalgruppen/regionalgruppenanmeldung?eventno=6696
END:VEVENT
END:VCALENDAR
