BEGIN:VCALENDAR
VERSION:2.0
METHOD:PUBLISH
X-WR-CALNAME;VALUE=TEXT:
PRODID:-//Drupal iCal API//EN
BEGIN:VEVENT
UID:wfbb-event-2194
DTSTAMP:20241118T145922Z
DTSTART:20211020T100000Z
DTEND:20211020T153000Z
SUMMARY:6. BTU-Transfertag | Mit innovativen Materialien zu neuen Perspektiven
DESCRIPTION:Der 6. BTU-Transfertag findet am 20. Oktober 2021 ab 13 Uhr unter dem Motto „Mit innovativen Materialien zu neuen Perspektiven“ statt.
LOCATION:
URL:http://www.b-tu.de/wirtschaft/technologie-und-innovation/transfertag
END:VEVENT
END:VCALENDAR
